BEGIN:VCALENDAR
VERSION:2.0
PRODID:-//Svoz odpadu 2026//CZ
CALSCALE:GREGORIAN
METHOD:PUBLISH
X-WR-CALNAME:Svoz odpadu 2026
X-WR-TIMEZONE:Europe/Prague
BEGIN:VTIMEZONE
TZID:Europe/Prague
X-LIC-LOCATION:Europe/Prague
BEGIN:DAYLIGHT
TZOFFSETFROM:+0100
TZOFFSETTO:+0200
TZNAME:CEST
DTSTART:19700329T020000
RRULE:FREQ=YEARLY;BYMONTH=3;BYDAY=-1SU
END:DAYLIGHT
BEGIN:STANDARD
TZOFFSETFROM:+0200
TZOFFSETTO:+0100
TZNAME:CET
DTSTART:19701025T030000
RRULE:FREQ=YEARLY;BYMONTH=10;BYDAY=-1SU
END:STANDARD
END:VTIMEZONE
BEGIN:VEVENT
UID:03012026-komunalni-odpad@svoz.local
DTSTAMP:20260212T094551Z
DTSTART;TZID=Europe/Prague:20260103T060000
DTEND;TZID=Europe/Prague:20260103T063000
SUMMARY:svoz komunálního odpadu dne 03.01.2026.
BEGIN:VALARM
TRIGGER:-PT12H
ACTION:DISPLAY
DESCRIPTION:svoz komunálního odpadu dne 03.01.2026.
END:VALARM
END:VEVENT
BEGIN:VEVENT
UID:03012026-plasty@svoz.local
DTSTAMP:20260212T094551Z
DTSTART;TZID=Europe/Prague:20260103T060000
DTEND;TZID=Europe/Prague:20260103T063000
SUMMARY:svoz plastů dne 03.01.2026.
BEGIN:VALARM
TRIGGER:-PT12H
ACTION:DISPLAY
DESCRIPTION:svoz plastů dne 03.01.2026.
END:VALARM
END:VEVENT
BEGIN:VEVENT
UID:16012026-papir@svoz.local
DTSTAMP:20260212T094551Z
DTSTART;TZID=Europe/Prague:20260116T060000
DTEND;TZID=Europe/Prague:20260116T063000
SUMMARY:svoz papíru dne 16.01.2026.
BEGIN:VALARM
TRIGGER:-PT12H
ACTION:DISPLAY
DESCRIPTION:svoz papíru dne 16.01.2026.
END:VALARM
END:VEVENT
BEGIN:VEVENT
UID:30012026-komunalni-odpad@svoz.local
DTSTAMP:20260212T094551Z
DTSTART;TZID=Europe/Prague:20260130T060000
DTEND;TZID=Europe/Prague:20260130T063000
SUMMARY:svoz komunálního odpadu dne 30.01.2026.
BEGIN:VALARM
TRIGGER:-PT12H
ACTION:DISPLAY
DESCRIPTION:svoz komunálního odpadu dne 30.01.2026.
END:VALARM
END:VEVENT
BEGIN:VEVENT
UID:30012026-plasty@svoz.local
DTSTAMP:20260212T094551Z
DTSTART;TZID=Europe/Prague:20260130T060000
DTEND;TZID=Europe/Prague:20260130T063000
SUMMARY:svoz plastů dne 30.01.2026.
BEGIN:VALARM
TRIGGER:-PT12H
ACTION:DISPLAY
DESCRIPTION:svoz plastů dne 30.01.2026.
END:VALARM
END:VEVENT
BEGIN:VEVENT
UID:10022026-bioodpad@svoz.local
DTSTAMP:20260212T094551Z
DTSTART;TZID=Europe/Prague:20260210T060000
DTEND;TZID=Europe/Prague:20260210T063000
SUMMARY:svoz bioodpadu dne 10.02.2026.
BEGIN:VALARM
TRIGGER:-PT12H
ACTION:DISPLAY
DESCRIPTION:svoz bioodpadu dne 10.02.2026.
END:VALARM
END:VEVENT
BEGIN:VEVENT
UID:13022026-papir@svoz.local
DTSTAMP:20260212T094551Z
DTSTART;TZID=Europe/Prague:20260213T060000
DTEND;TZID=Europe/Prague:20260213T063000
SUMMARY:svoz papíru dne 13.02.2026.
BEGIN:VALARM
TRIGGER:-PT12H
ACTION:DISPLAY
DESCRIPTION:svoz papíru dne 13.02.2026.
END:VALARM
END:VEVENT
BEGIN:VEVENT
UID:27022026-komunalni-odpad@svoz.local
DTSTAMP:20260212T094551Z
DTSTART;TZID=Europe/Prague:20260227T060000
DTEND;TZID=Europe/Prague:20260227T063000
SUMMARY:svoz komunálního odpadu dne 27.02.2026.
BEGIN:VALARM
TRIGGER:-PT12H
ACTION:DISPLAY
DESCRIPTION:svoz komunálního odpadu dne 27.02.2026.
END:VALARM
END:VEVENT
BEGIN:VEVENT
UID:27022026-plasty@svoz.local
DTSTAMP:20260212T094551Z
DTSTART;TZID=Europe/Prague:20260227T060000
DTEND;TZID=Europe/Prague:20260227T063000
SUMMARY:svoz plastů dne 27.02.2026.
BEGIN:VALARM
TRIGGER:-PT12H
ACTION:DISPLAY
DESCRIPTION:svoz plastů dne 27.02.2026.
END:VALARM
END:VEVENT
BEGIN:VEVENT
UID:10032026-bioodpad@svoz.local
DTSTAMP:20260212T094551Z
DTSTART;TZID=Europe/Prague:20260310T060000
DTEND;TZID=Europe/Prague:20260310T063000
SUMMARY:svoz bioodpadu dne 10.03.2026.
BEGIN:VALARM
TRIGGER:-PT12H
ACTION:DISPLAY
DESCRIPTION:svoz bioodpadu dne 10.03.2026.
END:VALARM
END:VEVENT
BEGIN:VEVENT
UID:13032026-papir@svoz.local
DTSTAMP:20260212T094551Z
DTSTART;TZID=Europe/Prague:20260313T060000
DTEND;TZID=Europe/Prague:20260313T063000
SUMMARY:svoz papíru dne 13.03.2026.
BEGIN:VALARM
TRIGGER:-PT12H
ACTION:DISPLAY
DESCRIPTION:svoz papíru dne 13.03.2026.
END:VALARM
END:VEVENT
BEGIN:VEVENT
UID:24032026-bioodpad@svoz.local
DTSTAMP:20260212T094551Z
DTSTART;TZID=Europe/Prague:20260324T060000
DTEND;TZID=Europe/Prague:20260324T063000
SUMMARY:svoz bioodpadu dne 24.03.2026.
BEGIN:VALARM
TRIGGER:-PT12H
ACTION:DISPLAY
DESCRIPTION:svoz bioodpadu dne 24.03.2026.
END:VALARM
END:VEVENT
BEGIN:VEVENT
UID:27032026-komunalni-odpad@svoz.local
DTSTAMP:20260212T094551Z
DTSTART;TZID=Europe/Prague:20260327T060000
DTEND;TZID=Europe/Prague:20260327T063000
SUMMARY:svoz komunálního odpadu dne 27.03.2026.
BEGIN:VALARM
TRIGGER:-PT12H
ACTION:DISPLAY
DESCRIPTION:svoz komunálního odpadu dne 27.03.2026.
END:VALARM
END:VEVENT
BEGIN:VEVENT
UID:27032026-plasty@svoz.local
DTSTAMP:20260212T094551Z
DTSTART;TZID=Europe/Prague:20260327T060000
DTEND;TZID=Europe/Prague:20260327T063000
SUMMARY:svoz plastů dne 27.03.2026.
BEGIN:VALARM
TRIGGER:-PT12H
ACTION:DISPLAY
DESCRIPTION:svoz plastů dne 27.03.2026.
END:VALARM
END:VEVENT
BEGIN:VEVENT
UID:08042026-bioodpad@svoz.local
DTSTAMP:20260212T094551Z
DTSTART;TZID=Europe/Prague:20260408T060000
DTEND;TZID=Europe/Prague:20260408T063000
SUMMARY:svoz bioodpadu dne 08.04.2026.
BEGIN:VALARM
TRIGGER:-PT12H
ACTION:DISPLAY
DESCRIPTION:svoz bioodpadu dne 08.04.2026.
END:VALARM
END:VEVENT
BEGIN:VEVENT
UID:11042026-papir@svoz.local
DTSTAMP:20260212T094551Z
DTSTART;TZID=Europe/Prague:20260411T060000
DTEND;TZID=Europe/Prague:20260411T063000
SUMMARY:svoz papíru dne 11.04.2026.
BEGIN:VALARM
TRIGGER:-PT12H
ACTION:DISPLAY
DESCRIPTION:svoz papíru dne 11.04.2026.
END:VALARM
END:VEVENT
BEGIN:VEVENT
UID:21042026-bioodpad@svoz.local
DTSTAMP:20260212T094551Z
DTSTART;TZID=Europe/Prague:20260421T060000
DTEND;TZID=Europe/Prague:20260421T063000
SUMMARY:svoz bioodpadu dne 21.04.2026.
BEGIN:VALARM
TRIGGER:-PT12H
ACTION:DISPLAY
DESCRIPTION:svoz bioodpadu dne 21.04.2026.
END:VALARM
END:VEVENT
BEGIN:VEVENT
UID:24042026-komunalni-odpad@svoz.local
DTSTAMP:20260212T094551Z
DTSTART;TZID=Europe/Prague:20260424T060000
DTEND;TZID=Europe/Prague:20260424T063000
SUMMARY:svoz komunálního odpadu dne 24.04.2026.
BEGIN:VALARM
TRIGGER:-PT12H
ACTION:DISPLAY
DESCRIPTION:svoz komunálního odpadu dne 24.04.2026.
END:VALARM
END:VEVENT
BEGIN:VEVENT
UID:24042026-plasty@svoz.local
DTSTAMP:20260212T094551Z
DTSTART;TZID=Europe/Prague:20260424T060000
DTEND;TZID=Europe/Prague:20260424T063000
SUMMARY:svoz plastů dne 24.04.2026.
BEGIN:VALARM
TRIGGER:-PT12H
ACTION:DISPLAY
DESCRIPTION:svoz plastů dne 24.04.2026.
END:VALARM
END:VEVENT
BEGIN:VEVENT
UID:05052026-bioodpad@svoz.local
DTSTAMP:20260212T094551Z
DTSTART;TZID=Europe/Prague:20260505T060000
DTEND;TZID=Europe/Prague:20260505T063000
SUMMARY:svoz bioodpadu dne 05.05.2026.
BEGIN:VALARM
TRIGGER:-PT12H
ACTION:DISPLAY
DESCRIPTION:svoz bioodpadu dne 05.05.2026.
END:VALARM
END:VEVENT
BEGIN:VEVENT
UID:08052026-komunalni-odpad@svoz.local
DTSTAMP:20260212T094551Z
DTSTART;TZID=Europe/Prague:20260508T060000
DTEND;TZID=Europe/Prague:20260508T063000
SUMMARY:svoz komunálního odpadu dne 08.05.2026.
BEGIN:VALARM
TRIGGER:-PT12H
ACTION:DISPLAY
DESCRIPTION:svoz komunálního odpadu dne 08.05.2026.
END:VALARM
END:VEVENT
BEGIN:VEVENT
UID:08052026-papir@svoz.local
DTSTAMP:20260212T094551Z
DTSTART;TZID=Europe/Prague:20260508T060000
DTEND;TZID=Europe/Prague:20260508T063000
SUMMARY:svoz papíru dne 08.05.2026.
BEGIN:VALARM
TRIGGER:-PT12H
ACTION:DISPLAY
DESCRIPTION:svoz papíru dne 08.05.2026.
END:VALARM
END:VEVENT
BEGIN:VEVENT
UID:19052026-bioodpad@svoz.local
DTSTAMP:20260212T094551Z
DTSTART;TZID=Europe/Prague:20260519T060000
DTEND;TZID=Europe/Prague:20260519T063000
SUMMARY:svoz bioodpadu dne 19.05.2026.
BEGIN:VALARM
TRIGGER:-PT12H
ACTION:DISPLAY
DESCRIPTION:svoz bioodpadu dne 19.05.2026.
END:VALARM
END:VEVENT
BEGIN:VEVENT
UID:22052026-komunalni-odpad@svoz.local
DTSTAMP:20260212T094551Z
DTSTART;TZID=Europe/Prague:20260522T060000
DTEND;TZID=Europe/Prague:20260522T063000
SUMMARY:svoz komunálního odpadu dne 22.05.2026.
BEGIN:VALARM
TRIGGER:-PT12H
ACTION:DISPLAY
DESCRIPTION:svoz komunálního odpadu dne 22.05.2026.
END:VALARM
END:VEVENT
BEGIN:VEVENT
UID:22052026-plasty@svoz.local
DTSTAMP:20260212T094551Z
DTSTART;TZID=Europe/Prague:20260522T060000
DTEND;TZID=Europe/Prague:20260522T063000
SUMMARY:svoz plastů dne 22.05.2026.
BEGIN:VALARM
TRIGGER:-PT12H
ACTION:DISPLAY
DESCRIPTION:svoz plastů dne 22.05.2026.
END:VALARM
END:VEVENT
BEGIN:VEVENT
UID:02062026-bioodpad@svoz.local
DTSTAMP:20260212T094551Z
DTSTART;TZID=Europe/Prague:20260602T060000
DTEND;TZID=Europe/Prague:20260602T063000
SUMMARY:svoz bioodpadu dne 02.06.2026.
BEGIN:VALARM
TRIGGER:-PT12H
ACTION:DISPLAY
DESCRIPTION:svoz bioodpadu dne 02.06.2026.
END:VALARM
END:VEVENT
BEGIN:VEVENT
UID:05062026-komunalni-odpad@svoz.local
DTSTAMP:20260212T094551Z
DTSTART;TZID=Europe/Prague:20260605T060000
DTEND;TZID=Europe/Prague:20260605T063000
SUMMARY:svoz komunálního odpadu dne 05.06.2026.
BEGIN:VALARM
TRIGGER:-PT12H
ACTION:DISPLAY
DESCRIPTION:svoz komunálního odpadu dne 05.06.2026.
END:VALARM
END:VEVENT
BEGIN:VEVENT
UID:05062026-papir@svoz.local
DTSTAMP:20260212T094551Z
DTSTART;TZID=Europe/Prague:20260605T060000
DTEND;TZID=Europe/Prague:20260605T063000
SUMMARY:svoz papíru dne 05.06.2026.
BEGIN:VALARM
TRIGGER:-PT12H
ACTION:DISPLAY
DESCRIPTION:svoz papíru dne 05.06.2026.
END:VALARM
END:VEVENT
BEGIN:VEVENT
UID:16062026-bioodpad@svoz.local
DTSTAMP:20260212T094551Z
DTSTART;TZID=Europe/Prague:20260616T060000
DTEND;TZID=Europe/Prague:20260616T063000
SUMMARY:svoz bioodpadu dne 16.06.2026.
BEGIN:VALARM
TRIGGER:-PT12H
ACTION:DISPLAY
DESCRIPTION:svoz bioodpadu dne 16.06.2026.
END:VALARM
END:VEVENT
BEGIN:VEVENT
UID:19062026-komunalni-odpad@svoz.local
DTSTAMP:20260212T094551Z
DTSTART;TZID=Europe/Prague:20260619T060000
DTEND;TZID=Europe/Prague:20260619T063000
SUMMARY:svoz komunálního odpadu dne 19.06.2026.
BEGIN:VALARM
TRIGGER:-PT12H
ACTION:DISPLAY
DESCRIPTION:svoz komunálního odpadu dne 19.06.2026.
END:VALARM
END:VEVENT
BEGIN:VEVENT
UID:19062026-plasty@svoz.local
DTSTAMP:20260212T094551Z
DTSTART;TZID=Europe/Prague:20260619T060000
DTEND;TZID=Europe/Prague:20260619T063000
SUMMARY:svoz plastů dne 19.06.2026.
BEGIN:VALARM
TRIGGER:-PT12H
ACTION:DISPLAY
DESCRIPTION:svoz plastů dne 19.06.2026.
END:VALARM
END:VEVENT
BEGIN:VEVENT
UID:30062026-bioodpad@svoz.local
DTSTAMP:20260212T094551Z
DTSTART;TZID=Europe/Prague:20260630T060000
DTEND;TZID=Europe/Prague:20260630T063000
SUMMARY:svoz bioodpadu dne 30.06.2026.
BEGIN:VALARM
TRIGGER:-PT12H
ACTION:DISPLAY
DESCRIPTION:svoz bioodpadu dne 30.06.2026.
END:VALARM
END:VEVENT
BEGIN:VEVENT
UID:03072026-komunalni-odpad@svoz.local
DTSTAMP:20260212T094551Z
DTSTART;TZID=Europe/Prague:20260703T060000
DTEND;TZID=Europe/Prague:20260703T063000
SUMMARY:svoz komunálního odpadu dne 03.07.2026.
BEGIN:VALARM
TRIGGER:-PT12H
ACTION:DISPLAY
DESCRIPTION:svoz komunálního odpadu dne 03.07.2026.
END:VALARM
END:VEVENT
BEGIN:VEVENT
UID:03072026-papir@svoz.local
DTSTAMP:20260212T094551Z
DTSTART;TZID=Europe/Prague:20260703T060000
DTEND;TZID=Europe/Prague:20260703T063000
SUMMARY:svoz papíru dne 03.07.2026.
BEGIN:VALARM
TRIGGER:-PT12H
ACTION:DISPLAY
DESCRIPTION:svoz papíru dne 03.07.2026.
END:VALARM
END:VEVENT
BEGIN:VEVENT
UID:14072026-bioodpad@svoz.local
DTSTAMP:20260212T094551Z
DTSTART;TZID=Europe/Prague:20260714T060000
DTEND;TZID=Europe/Prague:20260714T063000
SUMMARY:svoz bioodpadu dne 14.07.2026.
BEGIN:VALARM
TRIGGER:-PT12H
ACTION:DISPLAY
DESCRIPTION:svoz bioodpadu dne 14.07.2026.
END:VALARM
END:VEVENT
BEGIN:VEVENT
UID:17072026-komunalni-odpad@svoz.local
DTSTAMP:20260212T094551Z
DTSTART;TZID=Europe/Prague:20260717T060000
DTEND;TZID=Europe/Prague:20260717T063000
SUMMARY:svoz komunálního odpadu dne 17.07.2026.
BEGIN:VALARM
TRIGGER:-PT12H
ACTION:DISPLAY
DESCRIPTION:svoz komunálního odpadu dne 17.07.2026.
END:VALARM
END:VEVENT
BEGIN:VEVENT
UID:17072026-plasty@svoz.local
DTSTAMP:20260212T094551Z
DTSTART;TZID=Europe/Prague:20260717T060000
DTEND;TZID=Europe/Prague:20260717T063000
SUMMARY:svoz plastů dne 17.07.2026.
BEGIN:VALARM
TRIGGER:-PT12H
ACTION:DISPLAY
DESCRIPTION:svoz plastů dne 17.07.2026.
END:VALARM
END:VEVENT
BEGIN:VEVENT
UID:28072026-bioodpad@svoz.local
DTSTAMP:20260212T094551Z
DTSTART;TZID=Europe/Prague:20260728T060000
DTEND;TZID=Europe/Prague:20260728T063000
SUMMARY:svoz bioodpadu dne 28.07.2026.
BEGIN:VALARM
TRIGGER:-PT12H
ACTION:DISPLAY
DESCRIPTION:svoz bioodpadu dne 28.07.2026.
END:VALARM
END:VEVENT
BEGIN:VEVENT
UID:31072026-komunalni-odpad@svoz.local
DTSTAMP:20260212T094551Z
DTSTART;TZID=Europe/Prague:20260731T060000
DTEND;TZID=Europe/Prague:20260731T063000
SUMMARY:svoz komunálního odpadu dne 31.07.2026.
BEGIN:VALARM
TRIGGER:-PT12H
ACTION:DISPLAY
DESCRIPTION:svoz komunálního odpadu dne 31.07.2026.
END:VALARM
END:VEVENT
BEGIN:VEVENT
UID:31072026-papir@svoz.local
DTSTAMP:20260212T094551Z
DTSTART;TZID=Europe/Prague:20260731T060000
DTEND;TZID=Europe/Prague:20260731T063000
SUMMARY:svoz papíru dne 31.07.2026.
BEGIN:VALARM
TRIGGER:-PT12H
ACTION:DISPLAY
DESCRIPTION:svoz papíru dne 31.07.2026.
END:VALARM
END:VEVENT
BEGIN:VEVENT
UID:11082026-bioodpad@svoz.local
DTSTAMP:20260212T094551Z
DTSTART;TZID=Europe/Prague:20260811T060000
DTEND;TZID=Europe/Prague:20260811T063000
SUMMARY:svoz bioodpadu dne 11.08.2026.
BEGIN:VALARM
TRIGGER:-PT12H
ACTION:DISPLAY
DESCRIPTION:svoz bioodpadu dne 11.08.2026.
END:VALARM
END:VEVENT
BEGIN:VEVENT
UID:14082026-komunalni-odpad@svoz.local
DTSTAMP:20260212T094551Z
DTSTART;TZID=Europe/Prague:20260814T060000
DTEND;TZID=Europe/Prague:20260814T063000
SUMMARY:svoz komunálního odpadu dne 14.08.2026.
BEGIN:VALARM
TRIGGER:-PT12H
ACTION:DISPLAY
DESCRIPTION:svoz komunálního odpadu dne 14.08.2026.
END:VALARM
END:VEVENT
BEGIN:VEVENT
UID:14082026-plasty@svoz.local
DTSTAMP:20260212T094551Z
DTSTART;TZID=Europe/Prague:20260814T060000
DTEND;TZID=Europe/Prague:20260814T063000
SUMMARY:svoz plastů dne 14.08.2026.
BEGIN:VALARM
TRIGGER:-PT12H
ACTION:DISPLAY
DESCRIPTION:svoz plastů dne 14.08.2026.
END:VALARM
END:VEVENT
BEGIN:VEVENT
UID:25082026-bioodpad@svoz.local
DTSTAMP:20260212T094551Z
DTSTART;TZID=Europe/Prague:20260825T060000
DTEND;TZID=Europe/Prague:20260825T063000
SUMMARY:svoz bioodpadu dne 25.08.2026.
BEGIN:VALARM
TRIGGER:-PT12H
ACTION:DISPLAY
DESCRIPTION:svoz bioodpadu dne 25.08.2026.
END:VALARM
END:VEVENT
BEGIN:VEVENT
UID:28082026-komunalni-odpad@svoz.local
DTSTAMP:20260212T094551Z
DTSTART;TZID=Europe/Prague:20260828T060000
DTEND;TZID=Europe/Prague:20260828T063000
SUMMARY:svoz komunálního odpadu dne 28.08.2026.
BEGIN:VALARM
TRIGGER:-PT12H
ACTION:DISPLAY
DESCRIPTION:svoz komunálního odpadu dne 28.08.2026.
END:VALARM
END:VEVENT
BEGIN:VEVENT
UID:28082026-papir@svoz.local
DTSTAMP:20260212T094551Z
DTSTART;TZID=Europe/Prague:20260828T060000
DTEND;TZID=Europe/Prague:20260828T063000
SUMMARY:svoz papíru dne 28.08.2026.
BEGIN:VALARM
TRIGGER:-PT12H
ACTION:DISPLAY
DESCRIPTION:svoz papíru dne 28.08.2026.
END:VALARM
END:VEVENT
BEGIN:VEVENT
UID:08092026-bioodpad@svoz.local
DTSTAMP:20260212T094551Z
DTSTART;TZID=Europe/Prague:20260908T060000
DTEND;TZID=Europe/Prague:20260908T063000
SUMMARY:svoz bioodpadu dne 08.09.2026.
BEGIN:VALARM
TRIGGER:-PT12H
ACTION:DISPLAY
DESCRIPTION:svoz bioodpadu dne 08.09.2026.
END:VALARM
END:VEVENT
BEGIN:VEVENT
UID:11092026-komunalni-odpad@svoz.local
DTSTAMP:20260212T094551Z
DTSTART;TZID=Europe/Prague:20260911T060000
DTEND;TZID=Europe/Prague:20260911T063000
SUMMARY:svoz komunálního odpadu dne 11.09.2026.
BEGIN:VALARM
TRIGGER:-PT12H
ACTION:DISPLAY
DESCRIPTION:svoz komunálního odpadu dne 11.09.2026.
END:VALARM
END:VEVENT
BEGIN:VEVENT
UID:11092026-plasty@svoz.local
DTSTAMP:20260212T094551Z
DTSTART;TZID=Europe/Prague:20260911T060000
DTEND;TZID=Europe/Prague:20260911T063000
SUMMARY:svoz plastů dne 11.09.2026.
BEGIN:VALARM
TRIGGER:-PT12H
ACTION:DISPLAY
DESCRIPTION:svoz plastů dne 11.09.2026.
END:VALARM
END:VEVENT
BEGIN:VEVENT
UID:22092026-bioodpad@svoz.local
DTSTAMP:20260212T094551Z
DTSTART;TZID=Europe/Prague:20260922T060000
DTEND;TZID=Europe/Prague:20260922T063000
SUMMARY:svoz bioodpadu dne 22.09.2026.
BEGIN:VALARM
TRIGGER:-PT12H
ACTION:DISPLAY
DESCRIPTION:svoz bioodpadu dne 22.09.2026.
END:VALARM
END:VEVENT
BEGIN:VEVENT
UID:25092026-komunalni-odpad@svoz.local
DTSTAMP:20260212T094551Z
DTSTART;TZID=Europe/Prague:20260925T060000
DTEND;TZID=Europe/Prague:20260925T063000
SUMMARY:svoz komunálního odpadu dne 25.09.2026.
BEGIN:VALARM
TRIGGER:-PT12H
ACTION:DISPLAY
DESCRIPTION:svoz komunálního odpadu dne 25.09.2026.
END:VALARM
END:VEVENT
BEGIN:VEVENT
UID:25092026-papir@svoz.local
DTSTAMP:20260212T094551Z
DTSTART;TZID=Europe/Prague:20260925T060000
DTEND;TZID=Europe/Prague:20260925T063000
SUMMARY:svoz papíru dne 25.09.2026.
BEGIN:VALARM
TRIGGER:-PT12H
ACTION:DISPLAY
DESCRIPTION:svoz papíru dne 25.09.2026.
END:VALARM
END:VEVENT
BEGIN:VEVENT
UID:06102026-bioodpad@svoz.local
DTSTAMP:20260212T094551Z
DTSTART;TZID=Europe/Prague:20261006T060000
DTEND;TZID=Europe/Prague:20261006T063000
SUMMARY:svoz bioodpadu dne 06.10.2026.
BEGIN:VALARM
TRIGGER:-PT12H
ACTION:DISPLAY
DESCRIPTION:svoz bioodpadu dne 06.10.2026.
END:VALARM
END:VEVENT
BEGIN:VEVENT
UID:09102026-komunalni-odpad@svoz.local
DTSTAMP:20260212T094551Z
DTSTART;TZID=Europe/Prague:20261009T060000
DTEND;TZID=Europe/Prague:20261009T063000
SUMMARY:svoz komunálního odpadu dne 09.10.2026.
BEGIN:VALARM
TRIGGER:-PT12H
ACTION:DISPLAY
DESCRIPTION:svoz komunálního odpadu dne 09.10.2026.
END:VALARM
END:VEVENT
BEGIN:VEVENT
UID:09102026-plasty@svoz.local
DTSTAMP:20260212T094551Z
DTSTART;TZID=Europe/Prague:20261009T060000
DTEND;TZID=Europe/Prague:20261009T063000
SUMMARY:svoz plastů dne 09.10.2026.
BEGIN:VALARM
TRIGGER:-PT12H
ACTION:DISPLAY
DESCRIPTION:svoz plastů dne 09.10.2026.
END:VALARM
END:VEVENT
BEGIN:VEVENT
UID:20102026-bioodpad@svoz.local
DTSTAMP:20260212T094551Z
DTSTART;TZID=Europe/Prague:20261020T060000
DTEND;TZID=Europe/Prague:20261020T063000
SUMMARY:svoz bioodpadu dne 20.10.2026.
BEGIN:VALARM
TRIGGER:-PT12H
ACTION:DISPLAY
DESCRIPTION:svoz bioodpadu dne 20.10.2026.
END:VALARM
END:VEVENT
BEGIN:VEVENT
UID:23102026-papir@svoz.local
DTSTAMP:20260212T094551Z
DTSTART;TZID=Europe/Prague:20261023T060000
DTEND;TZID=Europe/Prague:20261023T063000
SUMMARY:svoz papíru dne 23.10.2026.
BEGIN:VALARM
TRIGGER:-PT12H
ACTION:DISPLAY
DESCRIPTION:svoz papíru dne 23.10.2026.
END:VALARM
END:VEVENT
BEGIN:VEVENT
UID:03112026-bioodpad@svoz.local
DTSTAMP:20260212T094551Z
DTSTART;TZID=Europe/Prague:20261103T060000
DTEND;TZID=Europe/Prague:20261103T063000
SUMMARY:svoz bioodpadu dne 03.11.2026.
BEGIN:VALARM
TRIGGER:-PT12H
ACTION:DISPLAY
DESCRIPTION:svoz bioodpadu dne 03.11.2026.
END:VALARM
END:VEVENT
BEGIN:VEVENT
UID:06112026-komunalni-odpad@svoz.local
DTSTAMP:20260212T094551Z
DTSTART;TZID=Europe/Prague:20261106T060000
DTEND;TZID=Europe/Prague:20261106T063000
SUMMARY:svoz komunálního odpadu dne 06.11.2026.
BEGIN:VALARM
TRIGGER:-PT12H
ACTION:DISPLAY
DESCRIPTION:svoz komunálního odpadu dne 06.11.2026.
END:VALARM
END:VEVENT
BEGIN:VEVENT
UID:06112026-plasty@svoz.local
DTSTAMP:20260212T094551Z
DTSTART;TZID=Europe/Prague:20261106T060000
DTEND;TZID=Europe/Prague:20261106T063000
SUMMARY:svoz plastů dne 06.11.2026.
BEGIN:VALARM
TRIGGER:-PT12H
ACTION:DISPLAY
DESCRIPTION:svoz plastů dne 06.11.2026.
END:VALARM
END:VEVENT
BEGIN:VEVENT
UID:17112026-bioodpad@svoz.local
DTSTAMP:20260212T094551Z
DTSTART;TZID=Europe/Prague:20261117T060000
DTEND;TZID=Europe/Prague:20261117T063000
SUMMARY:svoz bioodpadu dne 17.11.2026.
BEGIN:VALARM
TRIGGER:-PT12H
ACTION:DISPLAY
DESCRIPTION:svoz bioodpadu dne 17.11.2026.
END:VALARM
END:VEVENT
BEGIN:VEVENT
UID:20112026-papir@svoz.local
DTSTAMP:20260212T094551Z
DTSTART;TZID=Europe/Prague:20261120T060000
DTEND;TZID=Europe/Prague:20261120T063000
SUMMARY:svoz papíru dne 20.11.2026.
BEGIN:VALARM
TRIGGER:-PT12H
ACTION:DISPLAY
DESCRIPTION:svoz papíru dne 20.11.2026.
END:VALARM
END:VEVENT
BEGIN:VEVENT
UID:01122026-bioodpad@svoz.local
DTSTAMP:20260212T094551Z
DTSTART;TZID=Europe/Prague:20261201T060000
DTEND;TZID=Europe/Prague:20261201T063000
SUMMARY:svoz bioodpadu dne 01.12.2026.
BEGIN:VALARM
TRIGGER:-PT12H
ACTION:DISPLAY
DESCRIPTION:svoz bioodpadu dne 01.12.2026.
END:VALARM
END:VEVENT
BEGIN:VEVENT
UID:04122026-komunalni-odpad@svoz.local
DTSTAMP:20260212T094551Z
DTSTART;TZID=Europe/Prague:20261204T060000
DTEND;TZID=Europe/Prague:20261204T063000
SUMMARY:svoz komunálního odpadu dne 04.12.2026.
BEGIN:VALARM
TRIGGER:-PT12H
ACTION:DISPLAY
DESCRIPTION:svoz komunálního odpadu dne 04.12.2026.
END:VALARM
END:VEVENT
BEGIN:VEVENT
UID:04122026-plasty@svoz.local
DTSTAMP:20260212T094551Z
DTSTART;TZID=Europe/Prague:20261204T060000
DTEND;TZID=Europe/Prague:20261204T063000
SUMMARY:svoz plastů dne 04.12.2026.
BEGIN:VALARM
TRIGGER:-PT12H
ACTION:DISPLAY
DESCRIPTION:svoz plastů dne 04.12.2026.
END:VALARM
END:VEVENT
BEGIN:VEVENT
UID:18122026-papir@svoz.local
DTSTAMP:20260212T094551Z
DTSTART;TZID=Europe/Prague:20261218T060000
DTEND;TZID=Europe/Prague:20261218T063000
SUMMARY:svoz papíru dne 18.12.2026.
BEGIN:VALARM
TRIGGER:-PT12H
ACTION:DISPLAY
DESCRIPTION:svoz papíru dne 18.12.2026.
END:VALARM
END:VEVENT
END:VCALENDAR
