BEGIN:VCALENDAR
VERSION:2.0
PRODID:-//Svoz odpadu 2026 UltraCompat//CZ
CALSCALE:GREGORIAN
METHOD:PUBLISH
BEGIN:VEVENT
UID:03012026-komunalni-odpad@svoz.local
DTSTAMP:20260212T171551Z
DTSTART:20260102T180000
DTEND:20260102T183000
SUMMARY:svoz komunálního odpadu zítra, dne 03.01.2026.
DESCRIPTION:svoz komunálního odpadu zítra, dne 03.01.2026.
END:VEVENT
BEGIN:VEVENT
UID:03012026-plasty@svoz.local
DTSTAMP:20260212T171551Z
DTSTART:20260102T180000
DTEND:20260102T183000
SUMMARY:svoz plastů zítra, dne 03.01.2026.
DESCRIPTION:svoz plastů zítra, dne 03.01.2026.
END:VEVENT
BEGIN:VEVENT
UID:16012026-papir@svoz.local
DTSTAMP:20260212T171551Z
DTSTART:20260115T180000
DTEND:20260115T183000
SUMMARY:svoz papíru zítra, dne 16.01.2026.
DESCRIPTION:svoz papíru zítra, dne 16.01.2026.
END:VEVENT
BEGIN:VEVENT
UID:30012026-komunalni-odpad@svoz.local
DTSTAMP:20260212T171551Z
DTSTART:20260129T180000
DTEND:20260129T183000
SUMMARY:svoz komunálního odpadu zítra, dne 30.01.2026.
DESCRIPTION:svoz komunálního odpadu zítra, dne 30.01.2026.
END:VEVENT
BEGIN:VEVENT
UID:30012026-plasty@svoz.local
DTSTAMP:20260212T171551Z
DTSTART:20260129T180000
DTEND:20260129T183000
SUMMARY:svoz plastů zítra, dne 30.01.2026.
DESCRIPTION:svoz plastů zítra, dne 30.01.2026.
END:VEVENT
BEGIN:VEVENT
UID:10022026-bioodpad@svoz.local
DTSTAMP:20260212T171551Z
DTSTART:20260209T180000
DTEND:20260209T183000
SUMMARY:svoz bioodpadu zítra, dne 10.02.2026.
DESCRIPTION:svoz bioodpadu zítra, dne 10.02.2026.
END:VEVENT
BEGIN:VEVENT
UID:13022026-papir@svoz.local
DTSTAMP:20260212T171551Z
DTSTART:20260212T183000
DTEND:20260212T184500
SUMMARY:svoz papíru zítra, dne 13.02.2026.
DESCRIPTION:svoz papíru zítra, dne 13.02.2026.
END:VEVENT
BEGIN:VEVENT
UID:27022026-komunalni-odpad@svoz.local
DTSTAMP:20260212T171551Z
DTSTART:20260226T180000
DTEND:20260226T183000
SUMMARY:svoz komunálního odpadu zítra, dne 27.02.2026.
DESCRIPTION:svoz komunálního odpadu zítra, dne 27.02.2026.
END:VEVENT
BEGIN:VEVENT
UID:27022026-plasty@svoz.local
DTSTAMP:20260212T171551Z
DTSTART:20260226T180000
DTEND:20260226T183000
SUMMARY:svoz plastů zítra, dne 27.02.2026.
DESCRIPTION:svoz plastů zítra, dne 27.02.2026.
END:VEVENT
BEGIN:VEVENT
UID:10032026-bioodpad@svoz.local
DTSTAMP:20260212T171551Z
DTSTART:20260309T180000
DTEND:20260309T183000
SUMMARY:svoz bioodpadu zítra, dne 10.03.2026.
DESCRIPTION:svoz bioodpadu zítra, dne 10.03.2026.
END:VEVENT
BEGIN:VEVENT
UID:13032026-papir@svoz.local
DTSTAMP:20260212T171551Z
DTSTART:20260312T180000
DTEND:20260312T183000
SUMMARY:svoz papíru zítra, dne 13.03.2026.
DESCRIPTION:svoz papíru zítra, dne 13.03.2026.
END:VEVENT
BEGIN:VEVENT
UID:24032026-bioodpad@svoz.local
DTSTAMP:20260212T171551Z
DTSTART:20260323T180000
DTEND:20260323T183000
SUMMARY:svoz bioodpadu zítra, dne 24.03.2026.
DESCRIPTION:svoz bioodpadu zítra, dne 24.03.2026.
END:VEVENT
BEGIN:VEVENT
UID:27032026-komunalni-odpad@svoz.local
DTSTAMP:20260212T171551Z
DTSTART:20260326T180000
DTEND:20260326T183000
SUMMARY:svoz komunálního odpadu zítra, dne 27.03.2026.
DESCRIPTION:svoz komunálního odpadu zítra, dne 27.03.2026.
END:VEVENT
BEGIN:VEVENT
UID:27032026-plasty@svoz.local
DTSTAMP:20260212T171551Z
DTSTART:20260326T180000
DTEND:20260326T183000
SUMMARY:svoz plastů zítra, dne 27.03.2026.
DESCRIPTION:svoz plastů zítra, dne 27.03.2026.
END:VEVENT
BEGIN:VEVENT
UID:08042026-bioodpad@svoz.local
DTSTAMP:20260212T171551Z
DTSTART:20260407T180000
DTEND:20260407T183000
SUMMARY:svoz bioodpadu zítra, dne 08.04.2026.
DESCRIPTION:svoz bioodpadu zítra, dne 08.04.2026.
END:VEVENT
BEGIN:VEVENT
UID:11042026-papir@svoz.local
DTSTAMP:20260212T171551Z
DTSTART:20260410T180000
DTEND:20260410T183000
SUMMARY:svoz papíru zítra, dne 11.04.2026.
DESCRIPTION:svoz papíru zítra, dne 11.04.2026.
END:VEVENT
BEGIN:VEVENT
UID:21042026-bioodpad@svoz.local
DTSTAMP:20260212T171551Z
DTSTART:20260420T180000
DTEND:20260420T183000
SUMMARY:svoz bioodpadu zítra, dne 21.04.2026.
DESCRIPTION:svoz bioodpadu zítra, dne 21.04.2026.
END:VEVENT
BEGIN:VEVENT
UID:24042026-komunalni-odpad@svoz.local
DTSTAMP:20260212T171551Z
DTSTART:20260423T180000
DTEND:20260423T183000
SUMMARY:svoz komunálního odpadu zítra, dne 24.04.2026.
DESCRIPTION:svoz komunálního odpadu zítra, dne 24.04.2026.
END:VEVENT
BEGIN:VEVENT
UID:24042026-plasty@svoz.local
DTSTAMP:20260212T171551Z
DTSTART:20260423T180000
DTEND:20260423T183000
SUMMARY:svoz plastů zítra, dne 24.04.2026.
DESCRIPTION:svoz plastů zítra, dne 24.04.2026.
END:VEVENT
BEGIN:VEVENT
UID:05052026-bioodpad@svoz.local
DTSTAMP:20260212T171551Z
DTSTART:20260504T180000
DTEND:20260504T183000
SUMMARY:svoz bioodpadu zítra, dne 05.05.2026.
DESCRIPTION:svoz bioodpadu zítra, dne 05.05.2026.
END:VEVENT
BEGIN:VEVENT
UID:08052026-komunalni-odpad@svoz.local
DTSTAMP:20260212T171551Z
DTSTART:20260507T180000
DTEND:20260507T183000
SUMMARY:svoz komunálního odpadu zítra, dne 08.05.2026.
DESCRIPTION:svoz komunálního odpadu zítra, dne 08.05.2026.
END:VEVENT
BEGIN:VEVENT
UID:08052026-papir@svoz.local
DTSTAMP:20260212T171551Z
DTSTART:20260507T180000
DTEND:20260507T183000
SUMMARY:svoz papíru zítra, dne 08.05.2026.
DESCRIPTION:svoz papíru zítra, dne 08.05.2026.
END:VEVENT
BEGIN:VEVENT
UID:19052026-bioodpad@svoz.local
DTSTAMP:20260212T171551Z
DTSTART:20260518T180000
DTEND:20260518T183000
SUMMARY:svoz bioodpadu zítra, dne 19.05.2026.
DESCRIPTION:svoz bioodpadu zítra, dne 19.05.2026.
END:VEVENT
BEGIN:VEVENT
UID:22052026-komunalni-odpad@svoz.local
DTSTAMP:20260212T171551Z
DTSTART:20260521T180000
DTEND:20260521T183000
SUMMARY:svoz komunálního odpadu zítra, dne 22.05.2026.
DESCRIPTION:svoz komunálního odpadu zítra, dne 22.05.2026.
END:VEVENT
BEGIN:VEVENT
UID:22052026-plasty@svoz.local
DTSTAMP:20260212T171551Z
DTSTART:20260521T180000
DTEND:20260521T183000
SUMMARY:svoz plastů zítra, dne 22.05.2026.
DESCRIPTION:svoz plastů zítra, dne 22.05.2026.
END:VEVENT
BEGIN:VEVENT
UID:02062026-bioodpad@svoz.local
DTSTAMP:20260212T171551Z
DTSTART:20260601T180000
DTEND:20260601T183000
SUMMARY:svoz bioodpadu zítra, dne 02.06.2026.
DESCRIPTION:svoz bioodpadu zítra, dne 02.06.2026.
END:VEVENT
BEGIN:VEVENT
UID:05062026-komunalni-odpad@svoz.local
DTSTAMP:20260212T171551Z
DTSTART:20260604T180000
DTEND:20260604T183000
SUMMARY:svoz komunálního odpadu zítra, dne 05.06.2026.
DESCRIPTION:svoz komunálního odpadu zítra, dne 05.06.2026.
END:VEVENT
BEGIN:VEVENT
UID:05062026-papir@svoz.local
DTSTAMP:20260212T171551Z
DTSTART:20260604T180000
DTEND:20260604T183000
SUMMARY:svoz papíru zítra, dne 05.06.2026.
DESCRIPTION:svoz papíru zítra, dne 05.06.2026.
END:VEVENT
BEGIN:VEVENT
UID:16062026-bioodpad@svoz.local
DTSTAMP:20260212T171551Z
DTSTART:20260615T180000
DTEND:20260615T183000
SUMMARY:svoz bioodpadu zítra, dne 16.06.2026.
DESCRIPTION:svoz bioodpadu zítra, dne 16.06.2026.
END:VEVENT
BEGIN:VEVENT
UID:19062026-komunalni-odpad@svoz.local
DTSTAMP:20260212T171551Z
DTSTART:20260618T180000
DTEND:20260618T183000
SUMMARY:svoz komunálního odpadu zítra, dne 19.06.2026.
DESCRIPTION:svoz komunálního odpadu zítra, dne 19.06.2026.
END:VEVENT
BEGIN:VEVENT
UID:19062026-plasty@svoz.local
DTSTAMP:20260212T171551Z
DTSTART:20260618T180000
DTEND:20260618T183000
SUMMARY:svoz plastů zítra, dne 19.06.2026.
DESCRIPTION:svoz plastů zítra, dne 19.06.2026.
END:VEVENT
BEGIN:VEVENT
UID:30062026-bioodpad@svoz.local
DTSTAMP:20260212T171551Z
DTSTART:20260629T180000
DTEND:20260629T183000
SUMMARY:svoz bioodpadu zítra, dne 30.06.2026.
DESCRIPTION:svoz bioodpadu zítra, dne 30.06.2026.
END:VEVENT
BEGIN:VEVENT
UID:03072026-komunalni-odpad@svoz.local
DTSTAMP:20260212T171551Z
DTSTART:20260702T180000
DTEND:20260702T183000
SUMMARY:svoz komunálního odpadu zítra, dne 03.07.2026.
DESCRIPTION:svoz komunálního odpadu zítra, dne 03.07.2026.
END:VEVENT
BEGIN:VEVENT
UID:03072026-papir@svoz.local
DTSTAMP:20260212T171551Z
DTSTART:20260702T180000
DTEND:20260702T183000
SUMMARY:svoz papíru zítra, dne 03.07.2026.
DESCRIPTION:svoz papíru zítra, dne 03.07.2026.
END:VEVENT
BEGIN:VEVENT
UID:14072026-bioodpad@svoz.local
DTSTAMP:20260212T171551Z
DTSTART:20260713T180000
DTEND:20260713T183000
SUMMARY:svoz bioodpadu zítra, dne 14.07.2026.
DESCRIPTION:svoz bioodpadu zítra, dne 14.07.2026.
END:VEVENT
BEGIN:VEVENT
UID:17072026-komunalni-odpad@svoz.local
DTSTAMP:20260212T171551Z
DTSTART:20260716T180000
DTEND:20260716T183000
SUMMARY:svoz komunálního odpadu zítra, dne 17.07.2026.
DESCRIPTION:svoz komunálního odpadu zítra, dne 17.07.2026.
END:VEVENT
BEGIN:VEVENT
UID:17072026-plasty@svoz.local
DTSTAMP:20260212T171551Z
DTSTART:20260716T180000
DTEND:20260716T183000
SUMMARY:svoz plastů zítra, dne 17.07.2026.
DESCRIPTION:svoz plastů zítra, dne 17.07.2026.
END:VEVENT
BEGIN:VEVENT
UID:28072026-bioodpad@svoz.local
DTSTAMP:20260212T171551Z
DTSTART:20260727T180000
DTEND:20260727T183000
SUMMARY:svoz bioodpadu zítra, dne 28.07.2026.
DESCRIPTION:svoz bioodpadu zítra, dne 28.07.2026.
END:VEVENT
BEGIN:VEVENT
UID:31072026-komunalni-odpad@svoz.local
DTSTAMP:20260212T171551Z
DTSTART:20260730T180000
DTEND:20260730T183000
SUMMARY:svoz komunálního odpadu zítra, dne 31.07.2026.
DESCRIPTION:svoz komunálního odpadu zítra, dne 31.07.2026.
END:VEVENT
BEGIN:VEVENT
UID:31072026-papir@svoz.local
DTSTAMP:20260212T171551Z
DTSTART:20260730T180000
DTEND:20260730T183000
SUMMARY:svoz papíru zítra, dne 31.07.2026.
DESCRIPTION:svoz papíru zítra, dne 31.07.2026.
END:VEVENT
BEGIN:VEVENT
UID:11082026-bioodpad@svoz.local
DTSTAMP:20260212T171551Z
DTSTART:20260810T180000
DTEND:20260810T183000
SUMMARY:svoz bioodpadu zítra, dne 11.08.2026.
DESCRIPTION:svoz bioodpadu zítra, dne 11.08.2026.
END:VEVENT
BEGIN:VEVENT
UID:14082026-komunalni-odpad@svoz.local
DTSTAMP:20260212T171551Z
DTSTART:20260813T180000
DTEND:20260813T183000
SUMMARY:svoz komunálního odpadu zítra, dne 14.08.2026.
DESCRIPTION:svoz komunálního odpadu zítra, dne 14.08.2026.
END:VEVENT
BEGIN:VEVENT
UID:14082026-plasty@svoz.local
DTSTAMP:20260212T171551Z
DTSTART:20260813T180000
DTEND:20260813T183000
SUMMARY:svoz plastů zítra, dne 14.08.2026.
DESCRIPTION:svoz plastů zítra, dne 14.08.2026.
END:VEVENT
BEGIN:VEVENT
UID:25082026-bioodpad@svoz.local
DTSTAMP:20260212T171551Z
DTSTART:20260824T180000
DTEND:20260824T183000
SUMMARY:svoz bioodpadu zítra, dne 25.08.2026.
DESCRIPTION:svoz bioodpadu zítra, dne 25.08.2026.
END:VEVENT
BEGIN:VEVENT
UID:28082026-komunalni-odpad@svoz.local
DTSTAMP:20260212T171551Z
DTSTART:20260827T180000
DTEND:20260827T183000
SUMMARY:svoz komunálního odpadu zítra, dne 28.08.2026.
DESCRIPTION:svoz komunálního odpadu zítra, dne 28.08.2026.
END:VEVENT
BEGIN:VEVENT
UID:28082026-papir@svoz.local
DTSTAMP:20260212T171551Z
DTSTART:20260827T180000
DTEND:20260827T183000
SUMMARY:svoz papíru zítra, dne 28.08.2026.
DESCRIPTION:svoz papíru zítra, dne 28.08.2026.
END:VEVENT
BEGIN:VEVENT
UID:08092026-bioodpad@svoz.local
DTSTAMP:20260212T171551Z
DTSTART:20260907T180000
DTEND:20260907T183000
SUMMARY:svoz bioodpadu zítra, dne 08.09.2026.
DESCRIPTION:svoz bioodpadu zítra, dne 08.09.2026.
END:VEVENT
BEGIN:VEVENT
UID:11092026-komunalni-odpad@svoz.local
DTSTAMP:20260212T171551Z
DTSTART:20260910T180000
DTEND:20260910T183000
SUMMARY:svoz komunálního odpadu zítra, dne 11.09.2026.
DESCRIPTION:svoz komunálního odpadu zítra, dne 11.09.2026.
END:VEVENT
BEGIN:VEVENT
UID:11092026-plasty@svoz.local
DTSTAMP:20260212T171551Z
DTSTART:20260910T180000
DTEND:20260910T183000
SUMMARY:svoz plastů zítra, dne 11.09.2026.
DESCRIPTION:svoz plastů zítra, dne 11.09.2026.
END:VEVENT
BEGIN:VEVENT
UID:22092026-bioodpad@svoz.local
DTSTAMP:20260212T171551Z
DTSTART:20260921T180000
DTEND:20260921T183000
SUMMARY:svoz bioodpadu zítra, dne 22.09.2026.
DESCRIPTION:svoz bioodpadu zítra, dne 22.09.2026.
END:VEVENT
BEGIN:VEVENT
UID:25092026-komunalni-odpad@svoz.local
DTSTAMP:20260212T171551Z
DTSTART:20260924T180000
DTEND:20260924T183000
SUMMARY:svoz komunálního odpadu zítra, dne 25.09.2026.
DESCRIPTION:svoz komunálního odpadu zítra, dne 25.09.2026.
END:VEVENT
BEGIN:VEVENT
UID:25092026-papir@svoz.local
DTSTAMP:20260212T171551Z
DTSTART:20260924T180000
DTEND:20260924T183000
SUMMARY:svoz papíru zítra, dne 25.09.2026.
DESCRIPTION:svoz papíru zítra, dne 25.09.2026.
END:VEVENT
BEGIN:VEVENT
UID:06102026-bioodpad@svoz.local
DTSTAMP:20260212T171551Z
DTSTART:20261005T180000
DTEND:20261005T183000
SUMMARY:svoz bioodpadu zítra, dne 06.10.2026.
DESCRIPTION:svoz bioodpadu zítra, dne 06.10.2026.
END:VEVENT
BEGIN:VEVENT
UID:09102026-komunalni-odpad@svoz.local
DTSTAMP:20260212T171551Z
DTSTART:20261008T180000
DTEND:20261008T183000
SUMMARY:svoz komunálního odpadu zítra, dne 09.10.2026.
DESCRIPTION:svoz komunálního odpadu zítra, dne 09.10.2026.
END:VEVENT
BEGIN:VEVENT
UID:09102026-plasty@svoz.local
DTSTAMP:20260212T171551Z
DTSTART:20261008T180000
DTEND:20261008T183000
SUMMARY:svoz plastů zítra, dne 09.10.2026.
DESCRIPTION:svoz plastů zítra, dne 09.10.2026.
END:VEVENT
BEGIN:VEVENT
UID:20102026-bioodpad@svoz.local
DTSTAMP:20260212T171551Z
DTSTART:20261019T180000
DTEND:20261019T183000
SUMMARY:svoz bioodpadu zítra, dne 20.10.2026.
DESCRIPTION:svoz bioodpadu zítra, dne 20.10.2026.
END:VEVENT
BEGIN:VEVENT
UID:23102026-papir@svoz.local
DTSTAMP:20260212T171551Z
DTSTART:20261022T180000
DTEND:20261022T183000
SUMMARY:svoz papíru zítra, dne 23.10.2026.
DESCRIPTION:svoz papíru zítra, dne 23.10.2026.
END:VEVENT
BEGIN:VEVENT
UID:03112026-bioodpad@svoz.local
DTSTAMP:20260212T171551Z
DTSTART:20261102T180000
DTEND:20261102T183000
SUMMARY:svoz bioodpadu zítra, dne 03.11.2026.
DESCRIPTION:svoz bioodpadu zítra, dne 03.11.2026.
END:VEVENT
BEGIN:VEVENT
UID:06112026-komunalni-odpad@svoz.local
DTSTAMP:20260212T171551Z
DTSTART:20261105T180000
DTEND:20261105T183000
SUMMARY:svoz komunálního odpadu zítra, dne 06.11.2026.
DESCRIPTION:svoz komunálního odpadu zítra, dne 06.11.2026.
END:VEVENT
BEGIN:VEVENT
UID:06112026-plasty@svoz.local
DTSTAMP:20260212T171551Z
DTSTART:20261105T180000
DTEND:20261105T183000
SUMMARY:svoz plastů zítra, dne 06.11.2026.
DESCRIPTION:svoz plastů zítra, dne 06.11.2026.
END:VEVENT
BEGIN:VEVENT
UID:17112026-bioodpad@svoz.local
DTSTAMP:20260212T171551Z
DTSTART:20261116T180000
DTEND:20261116T183000
SUMMARY:svoz bioodpadu zítra, dne 17.11.2026.
DESCRIPTION:svoz bioodpadu zítra, dne 17.11.2026.
END:VEVENT
BEGIN:VEVENT
UID:20112026-papir@svoz.local
DTSTAMP:20260212T171551Z
DTSTART:20261119T180000
DTEND:20261119T183000
SUMMARY:svoz papíru zítra, dne 20.11.2026.
DESCRIPTION:svoz papíru zítra, dne 20.11.2026.
END:VEVENT
BEGIN:VEVENT
UID:01122026-bioodpad@svoz.local
DTSTAMP:20260212T171551Z
DTSTART:20261130T180000
DTEND:20261130T183000
SUMMARY:svoz bioodpadu zítra, dne 01.12.2026.
DESCRIPTION:svoz bioodpadu zítra, dne 01.12.2026.
END:VEVENT
BEGIN:VEVENT
UID:04122026-komunalni-odpad@svoz.local
DTSTAMP:20260212T171551Z
DTSTART:20261203T180000
DTEND:20261203T183000
SUMMARY:svoz komunálního odpadu zítra, dne 04.12.2026.
DESCRIPTION:svoz komunálního odpadu zítra, dne 04.12.2026.
END:VEVENT
BEGIN:VEVENT
UID:04122026-plasty@svoz.local
DTSTAMP:20260212T171551Z
DTSTART:20261203T180000
DTEND:20261203T183000
SUMMARY:svoz plastů zítra, dne 04.12.2026.
DESCRIPTION:svoz plastů zítra, dne 04.12.2026.
END:VEVENT
BEGIN:VEVENT
UID:18122026-papir@svoz.local
DTSTAMP:20260212T171551Z
DTSTART:20261217T180000
DTEND:20261217T183000
SUMMARY:svoz papíru zítra, dne 18.12.2026.
DESCRIPTION:svoz papíru zítra, dne 18.12.2026.
END:VEVENT
END:VCALENDAR
